BEGIN:VCALENDAR
VERSION:2.0
PRODID:-//Reston Bible Church - ECPv5.16.4//NONSGML v1.0//EN
CALSCALE:GREGORIAN
METHOD:PUBLISH
X-WR-CALNAME:Reston Bible Church
X-ORIGINAL-URL:https://www.restonbible.org
X-WR-CALDESC:Events for Reston Bible Church
BEGIN:VTIMEZONE
TZID:America/New_York
BEGIN:DAYLIGHT
TZOFFSETFROM:-0500
TZOFFSETTO:-0400
TZNAME:EDT
DTSTART:20250309T070000
END:DAYLIGHT
BEGIN:STANDARD
TZOFFSETFROM:-0400
TZOFFSETTO:-0500
TZNAME:EST
DTSTART:20251102T060000
END:STANDARD
END:VTIMEZONE
BEGIN:VEVENT
DTSTART;TZID=America/New_York:20251116T101500
DTEND;TZID=America/New_York:20251116T121500
DTSTAMP:20260420T171155
CREATED:20221211T212251Z
LAST-MODIFIED:20260210T163348Z
UID:21776-1763288100-1763295300@www.restonbible.org
SUMMARY:A Taste of Perspectives
DESCRIPTION:A Taste of Perspectives is a chance to be encouraged about what God is doing globally\, and to learn more about the Perspectives course.\nJoin us on November 16 from 10:15 a.m.-12:15 p.m. (upstairs in Room 238) to learn more about Perspectives and the impact it has had on thousands of believers. \nWHAT IS PERSPECTIVES? Perspectives is an awe-inspiring comprehensive study course that is rooted in the Scriptures. It’s a multi-faceted learning experience that has profoundly impacted over 250\,000 alumni\, helping believers from all walks of life see how they can get threaded into God’s story of redeeming people from every tribe\, tongue\, and nation to Himself. From Genesis to the prophets\, Jesus Christ to the early church\, and Constantine to today\, you will see how God has been moving\, how the global Church has responded\, and what the greatest needs in world evangelization remain today. It isn’t a class about missions\, but a course on how every believer can be intimately woven into the story of God using His people to be a blessing to all the peoples of the earth. \nInformation about the full Perspectives course starting in January will be provided\, with early-bird registration discounts. \nPlease RSVP below and join us to catch a glimpse of how God is on a mission to bless the peoples of the earth! \nRegister here
URL:https://www.restonbible.org/event/tasteofperspectives/
LOCATION:RBC Room 238\, 45650 Oakbrook Court\, Dulles\, VA\, 20166\, United States
CATEGORIES:Missions
ATTACH;FMTTYPE=image/jpeg:https://www.restonbible.org/wp-content/uploads/2022/12/event-perspectives-class-1.jpg
ORGANIZER;CN="Cheryl%20Hurley":MAILTO:missions@restonbible.org
END:VEVENT
END:VCALENDAR