BEGIN:VCALENDAR
VERSION:2.0
PRODID:-//Reston Bible Church - ECPv5.16.4//NONSGML v1.0//EN
CALSCALE:GREGORIAN
METHOD:PUBLISH
X-WR-CALNAME:Reston Bible Church
X-ORIGINAL-URL:https://www.restonbible.org
X-WR-CALDESC:Events for Reston Bible Church
BEGIN:VTIMEZONE
TZID:America/New_York
BEGIN:DAYLIGHT
TZOFFSETFROM:-0500
TZOFFSETTO:-0400
TZNAME:EDT
DTSTART:20210314T070000
END:DAYLIGHT
BEGIN:STANDARD
TZOFFSETFROM:-0400
TZOFFSETTO:-0500
TZNAME:EST
DTSTART:20211107T060000
END:STANDARD
END:VTIMEZONE
BEGIN:VEVENT
DTSTART;VALUE=DATE:20210627
DTEND;VALUE=DATE:20210628
DTSTAMP:20260420T091411
CREATED:20210627T142227Z
LAST-MODIFIED:20210728T011257Z
UID:24700-1624752000-1624838399@www.restonbible.org
SUMMARY:Sunday Worship - Covid Updates
DESCRIPTION:We will worship together on Sunday morning with two services at our regular times of 9:00 a.m. and 10:45 a.m.\nAll restrictions have been removed from the 10:45 a.m. service. Starting June 20\, the 9:00 a.m. service will now be mask-optional. There will be NO registration or social distancing required. \nSERVICES\nIglesia Hispana will meet in the sanctuary at 6:00 p.m. Si va a asistir a domingo servicio en persona\, por favor haga clic aquí para información y pautas. \nTo accommodate those who are high-risk for infection as well as those who do not yet feel comfortable attending in-person\, we will livestream our services through live.restonbible.org\, Facebook\, and YouTube. \nLimited Children’s Ministry (Quest) classes are open at both services for preschool (3 years old and up) and Kindergarten through 5th grade. Limited Nursery (0-2 year olds) classes are open. \nFACE MASKS AND SOCIAL DISTANCING\nAs of June 20\, the 9:00 service will be mask optional. \nHand sanitizer will be widely available. \nIf you have any questions about attending\, please email us.
URL:https://www.restonbible.org/event/sundayworship/
LOCATION:Reston Bible Church\, 45650 Oakbrook Court\, Dulles\, VA\, 20166\, United States
CATEGORIES:Church Life
ATTACH;FMTTYPE=image/jpeg:https://www.restonbible.org/wp-content/uploads/2020/07/event_sundayworship.jpg
END:VEVENT
END:VCALENDAR