BEGIN:VCALENDAR
VERSION:2.0
PRODID:-//Reston Bible Church - ECPv5.16.4//NONSGML v1.0//EN
CALSCALE:GREGORIAN
METHOD:PUBLISH
X-WR-CALNAME:Reston Bible Church
X-ORIGINAL-URL:https://www.restonbible.org
X-WR-CALDESC:Events for Reston Bible Church
BEGIN:VTIMEZONE
TZID:America/New_York
BEGIN:DAYLIGHT
TZOFFSETFROM:-0500
TZOFFSETTO:-0400
TZNAME:EDT
DTSTART:20260308T070000
END:DAYLIGHT
BEGIN:STANDARD
TZOFFSETFROM:-0400
TZOFFSETTO:-0500
TZNAME:EST
DTSTART:20261101T060000
END:STANDARD
END:VTIMEZONE
BEGIN:VEVENT
DTSTART;VALUE=DATE:20260719
DTEND;VALUE=DATE:20260726
DTSTAMP:20260420T120340
CREATED:20260719T142654Z
LAST-MODIFIED:20260412T204355Z
UID:23998-1784419200-1785023999@www.restonbible.org
SUMMARY:Youth Summer Camp
DESCRIPTION:Details\nDeparture: Sunday\, July 19\, at 10:30 a.m. at RBC. \nReturn: Saturday\, July 25\, around 5:30 p.m. at RBC \nCamp Pricing: $450 (until May 15); $475 (until July 1)\, $500 (after July 1) \nRegister here\nGuest Speaker: Paul Goodnight\nPaul was on staff at RBC for over 20 years before retiring to Florida in 2018. His combination of humor\, knowledge of God’s Word\, and humble spirit make him one of the most gifted and requested youth speakers. \nWe are excited to have him join us once again. We believe our students will be richly blessed and challenged by Paul. \nOur Location: Appalachian Bible College\nWe’re headed back to Mt Hope\, West Virginia\, to enjoy the beauty of God’s creation in the heart of the Appalachians. The activity options near campus are excellent: paintball\, caving\, white-water rafting and more! But what keeps us coming back year after year is the character and heart of the college staff there. \nCamp Activities\nDuring the week\, we have several group games and activities planned\, plus free time where students can play Frisbee\, soccer\, basketball\, fly off of the “blob\,” zip line over the lake\, or challenge themselves on the climbing tower.  All students also get to spend a day at the lake tubing\, playing in the water\, and hanging out on the beach with friends. Finally\, all students will have the opportunity to spend one day doing an activity of their choice. When you register online\, you will rank your preference of which activity you would like to do. \nACTIVITY OPTIONS \n\nWhitewater Rafting: Raft through the “Grand Canyon of the East” on the New River as you ride the rapids with your friends.\nPaintball: Face off against your friends in a friendly yet competitive game of paintball in a rugged woodland course.\nCaving: Explore God’s underground creation with a helmet and headlamp leading the way.\nHigh Ropes: Test your faith as you rise to a higher level! You will be challenged through a series of obstacles and activities in a multi-level\, high angle environment.\nMountain Hiking: Hike along the beautiful\, winding\, Glade Creek mountain stream. Take a break and cool your feet in its refreshing waters.\n\nPlease contact Noah Smith at noahsmith@restonbible.org for more information about Summer Camp. \nRegister here
URL:https://www.restonbible.org/event/summercamp/
LOCATION:Appalachian Bible College\, 161 College Dr\, Mt. Hope\, WV\, 25880\, United States
CATEGORIES:Jr. High,Sr. High,Youth
ATTACH;FMTTYPE=image/jpeg:https://www.restonbible.org/wp-content/uploads/2026/07/event_summercamp26.jpg
ORGANIZER;CN="Noah%20Smith":MAILTO:noahsmith@restonbible.org
END:VEVENT
END:VCALENDAR