BEGIN:VCALENDAR
VERSION:2.0
PRODID:-//Reston Bible Church - ECPv5.16.4//NONSGML v1.0//EN
CALSCALE:GREGORIAN
METHOD:PUBLISH
X-WR-CALNAME:Reston Bible Church
X-ORIGINAL-URL:https://www.restonbible.org
X-WR-CALDESC:Events for Reston Bible Church
BEGIN:VTIMEZONE
TZID:America/New_York
BEGIN:DAYLIGHT
TZOFFSETFROM:-0500
TZOFFSETTO:-0400
TZNAME:EDT
DTSTART:20260308T070000
END:DAYLIGHT
BEGIN:STANDARD
TZOFFSETFROM:-0400
TZOFFSETTO:-0500
TZNAME:EST
DTSTART:20261101T060000
END:STANDARD
END:VTIMEZONE
BEGIN:VEVENT
DTSTART;TZID=America/New_York:20260529T183000
DTEND;TZID=America/New_York:20260529T213000
DTSTAMP:20260420T072719
CREATED:20260529T195956Z
LAST-MODIFIED:20260311T171649Z
UID:14728-1780079400-1780090200@www.restonbible.org
SUMMARY:Sr. High: Senior Honors Banquet
DESCRIPTION:If you have a graduating senior\, you are invited to join us for a Senior Honors Banquet held here at RBC.\nThis is a special evening we look forward to each year as it gives us a chance to honor our graduating seniors by marking this important milestone in their lives. \nThe dress is semi-formal and the cost is $20.00 per person ($10.00 for children 10 and under). Your graduate’s meal is free as our honored guest. \nPlease register your graduate by April 14. Once you have registered\, our Youth Admins will work with your family to provide us with additional information needed. \nPurchase your dinner tickets by May 22. \nSenior Honors information was sent to the parents of the graduating seniors on February 26. If you did not receive that information from us\, or if you have other questions\, please contact the Youth Admin at youth@restonbible.org. \nRegister the graduate Purchase tickets
URL:https://www.restonbible.org/event/seniorhonors/
LOCATION:Reston Bible Church\, 45650 Oakbrook Court\, Dulles\, VA\, 20166\, United States
CATEGORIES:Sr. High
ATTACH;FMTTYPE=image/jpeg:https://www.restonbible.org/wp-content/uploads/2025/05/srhigh-honors26.jpg
END:VEVENT
END:VCALENDAR