BEGIN:VCALENDAR
VERSION:2.0
PRODID:-//Reston Bible Church - ECPv5.16.4//NONSGML v1.0//EN
CALSCALE:GREGORIAN
METHOD:PUBLISH
X-WR-CALNAME:Reston Bible Church
X-ORIGINAL-URL:https://www.restonbible.org
X-WR-CALDESC:Events for Reston Bible Church
BEGIN:VTIMEZONE
TZID:America/New_York
BEGIN:DAYLIGHT
TZOFFSETFROM:-0500
TZOFFSETTO:-0400
TZNAME:EDT
DTSTART:20250309T070000
END:DAYLIGHT
BEGIN:STANDARD
TZOFFSETFROM:-0400
TZOFFSETTO:-0500
TZNAME:EST
DTSTART:20251102T060000
END:STANDARD
END:VTIMEZONE
BEGIN:VEVENT
DTSTART;VALUE=DATE:20251003
DTEND;VALUE=DATE:20251006
DTSTAMP:20260420T214855
CREATED:20251003T183634Z
LAST-MODIFIED:20260210T163406Z
UID:25101-1759449600-1759708799@www.restonbible.org
SUMMARY:2025 Men's Retreat
DESCRIPTION:The Men’s Ministry will have their annual retreat October 3-5\, 2025 at Meadowkirk Conference and Retreat Center in Middleburg\, Virginia\, only a 40-minute drive from Sterling.\nWhat does it mean to bring glory to God with our lives? Join us for the 2025 Men’s Retreat\, where you will hear challenging and encouraging messages from Dr. Richard Blackaby on “Whatever you do\, do it all for the glory of God” (1 Corinthians 10:31). During this retreat\, Dr. Blackaby will share spiritual truths and practical examples of how men can bring honor to God in every role: husband\, father\, grandfather\, brother\, co-worker\, friend\, church member\, leader and more. It should be our goal to live in such a way that others in our lives will be encouraged to follow the Jesus they see us following and serving! \n \nOne of the great benefits of the retreat is the opportunity to meet and connect with other brothers in Christ. So join the men of RBC\, CFC and other churches in Northern Virginia for a weekend of great messages\, reflection\, relaxation and an opportunity to grow closer to our Lord and Savior. The enemy wants to keep Christian men like you in isolation\, forgetting we are new creatures in Christ. God did not intend for us to walk alone. Christ came to radically transform our lives and the lives of those around us. Whether it’s in our families\, with co-workers\, or friends\, Christ wants to use you to reflect and share Him with others. How? Attend the retreat\, learn from others\, and be encouraged. \nRegistration is now closed. \nAbout the Speaker\nRichard Blackaby is the president of Blackaby Ministries International and the eldest son of Henry and Marilynn. Richard has a Ph.D. in church history from Southwestern Baptist Theological Seminary. He has served as a senior pastor and as a seminary president. Richard travels extensively and speaks internationally on spiritual leadership\, experiencing God\, revival\, and God in the marketplace. Richard regularly works with Christian CEOs of Fortune 500 companies. You can follow Richard on X at @richardblackaby\, Facebook\, or the Richard Blackaby Leadership Podcast. Richard and his wife Lisa live in Atlanta. Their three children all serve in ministry\, and they also have eight grandchildren. \nRichard has authored and co-authored 40 books\, including: Experiencing God\, The Experiencing God Study Bible\, The Ways of God\, The Seasons of God\, Spiritual Leadership\, God in the Marketplace\, Hearing God’s Voice\, Unlimiting God\, Putting a Face on Grace\, The Inspired Leader\, Spiritual Leadership Coaching\, Living Out of the Overflow\, and Flickering Lamps: Christ and His Church. \nSchedule of Events\n\n\n\n\nFriday\, October 3\n\n\n\n4:00 – 7:00pm\nCheck-In at Lobby/Fellowship\n\n\n7:00 – 9:30pm\nEvening Session and Small Groups\n\n\n10:00 – 11:59pm\nEvening Activities (Optional)\n\n\n\nSaturday\, October 4\n\n\n\n7:00 – 7:30am\nPrayer/Fellowship Time (Optional) – Fire Pit\n\n\n7:30 – 8:15am\nMorning Run (Optional)\n\n\n8:30 – 9:30am\nBreakfast\n\n\n10:00am – 12:30pm\nMorning Session and Small Groups\n\n\n12:45 – 1:45pm\nLunch\n\n\n1:45 – 5:30pm\nActivities and Free Time\n\n\n5:30 – 6:30pm\nDinner\n\n\n7:00 – 9:30pm\nEvening Session and Small Groups\n\n\n10:00 – 11:59pm\nEvening Activities (Optional)\n\n\n\nSunday\, October 5\n\n\n\n7:00 – 7:30am\nPrayer/Fellowship Time (Optional) – Fire Pit\n\n\n8:30 – 9:30am\nBreakfast\n\n\n10:00 – 10:45am\nCommunion and Prayer\n\n\n10:45 – 11:45am\nMorning Session\n\n\n11:45am\nClosing and Checkout\n\n\n\nRegistration is now closed.
URL:https://www.restonbible.org/event/mensretreat/
LOCATION:Meadowkirk Retreat and Conference Center\, 38012 Delta Farm Lane\, Middleburg\, VA\, 20117\, United States
CATEGORIES:Men
ATTACH;FMTTYPE=image/jpeg:https://www.restonbible.org/wp-content/uploads/2025/10/event-mens-retreat-oct2025.jpg
ORGANIZER;CN="Brad%20Hummel":MAILTO:mensministry@restonbible.org
END:VEVENT
END:VCALENDAR