BEGIN:VCALENDAR
VERSION:2.0
PRODID:-//Reston Bible Church - ECPv5.16.4//NONSGML v1.0//EN
CALSCALE:GREGORIAN
METHOD:PUBLISH
X-WR-CALNAME:Reston Bible Church
X-ORIGINAL-URL:https://www.restonbible.org
X-WR-CALDESC:Events for Reston Bible Church
BEGIN:VTIMEZONE
TZID:America/New_York
BEGIN:DAYLIGHT
TZOFFSETFROM:-0500
TZOFFSETTO:-0400
TZNAME:EDT
DTSTART:20250309T070000
END:DAYLIGHT
BEGIN:STANDARD
TZOFFSETFROM:-0400
TZOFFSETTO:-0500
TZNAME:EST
DTSTART:20251102T060000
END:STANDARD
END:VTIMEZONE
BEGIN:VEVENT
DTSTART;TZID=America/New_York:20250202T163000
DTEND;TZID=America/New_York:20250202T181500
DTSTAMP:20260424T021418
CREATED:20250202T211524Z
LAST-MODIFIED:20250111T152911Z
UID:32117-1738513800-1738520100@www.restonbible.org
SUMMARY:How We Love 10-Week Series
DESCRIPTION:Do you and your spouse seem to repeat the same old struggles?\nWhat if we told you that your marriage problems began long before you were married? Our early life experiences create our love styles that shapes our behaviors\, beliefs\, and expectations in all our relationships\, especially marriage. How We Love is a proven series that helps couples begin to discover the root of the repetitive and frustrating dance we cycle through again and again. Join us on February 2 at 4:30 p.m. in the Youth Building as we learn how to renew and restore relationships and enhance the emotional and physical intimacy in your marriage. \nFor more information\, email Casey at caseygragg@restonbible.org. \nRegister here
URL:https://www.restonbible.org/event/howwelove/
LOCATION:RBC Youth Building\, 45650 Oakbrook Court\, Dulles\, VA\, 20166\, United States
CATEGORIES:HomeFront
ATTACH;FMTTYPE=image/jpeg:https://www.restonbible.org/wp-content/uploads/2024/09/event-howlove_feb25.jpg
ORGANIZER;CN="Casey%20Gragg":MAILTO:caseygragg@restonbible.org
END:VEVENT
END:VCALENDAR