BEGIN:VCALENDAR
VERSION:2.0
PRODID:-//Reston Bible Church - ECPv5.16.4//NONSGML v1.0//EN
CALSCALE:GREGORIAN
METHOD:PUBLISH
X-WR-CALNAME:Reston Bible Church
X-ORIGINAL-URL:https://www.restonbible.org
X-WR-CALDESC:Events for Reston Bible Church
BEGIN:VTIMEZONE
TZID:America/New_York
BEGIN:DAYLIGHT
TZOFFSETFROM:-0500
TZOFFSETTO:-0400
TZNAME:EDT
DTSTART:20250309T070000
END:DAYLIGHT
BEGIN:STANDARD
TZOFFSETFROM:-0400
TZOFFSETTO:-0500
TZNAME:EST
DTSTART:20251102T060000
END:STANDARD
END:VTIMEZONE
BEGIN:VEVENT
DTSTART;TZID=America/New_York:20250404T183000
DTEND;TZID=America/New_York:20250404T213000
DTSTAMP:20260420T190242
CREATED:20250404T204717Z
LAST-MODIFIED:20250317T163952Z
UID:14017-1743791400-1743802200@www.restonbible.org
SUMMARY:Jr. High: Mother-Son "Games\, Guns 'n Roses"
DESCRIPTION:Moms (Grandmas\, Aunts!)\, this is your chance to have a great night with your special Jr. High Guy.\nMother/Grandma/Aunt and son teams will start in the main church building and play some bonding (and competitive!) games together. Then the Nerf battles will commence! Participants must\nregister for this event so that supplies will be plentiful. \nThere is a $25 cost per family. Space is limited\, so act now! Earn points as you compete together! Sweet prizes await the victors. \nRegister Here
URL:https://www.restonbible.org/event/gunsroses/
LOCATION:RBC Youth Building\, 45650 Oakbrook Court\, Dulles\, VA\, 20166\, United States
CATEGORIES:Jr. High
ATTACH;FMTTYPE=image/jpeg:https://www.restonbible.org/wp-content/uploads/2016/09/youth-breakthru-event.jpg
END:VEVENT
END:VCALENDAR