BEGIN:VCALENDAR
VERSION:2.0
PRODID:-//Reston Bible Church - ECPv5.16.4//NONSGML v1.0//EN
CALSCALE:GREGORIAN
METHOD:PUBLISH
X-WR-CALNAME:Reston Bible Church
X-ORIGINAL-URL:https://www.restonbible.org
X-WR-CALDESC:Events for Reston Bible Church
BEGIN:VTIMEZONE
TZID:America/New_York
BEGIN:DAYLIGHT
TZOFFSETFROM:-0500
TZOFFSETTO:-0400
TZNAME:EDT
DTSTART:20240310T070000
END:DAYLIGHT
BEGIN:STANDARD
TZOFFSETFROM:-0400
TZOFFSETTO:-0500
TZNAME:EST
DTSTART:20241103T060000
END:STANDARD
END:VTIMEZONE
BEGIN:VEVENT
DTSTART;VALUE=DATE:20241215
DTEND;VALUE=DATE:20241216
DTSTAMP:20260424T023314
CREATED:20241215T190100Z
LAST-MODIFIED:20240821T180118Z
UID:36587-1734220800-1734307199@www.restonbible.org
SUMMARY:Freshmen Fellowship
DESCRIPTION:In the Sr. High Student Ministry we want to be disciples who make disciples; Freshmen Fellowship is one way for students to be a part of this.\nFreshmen Fellowship is a faith-driven mentorship program where upperclassmen mentor the rising freshmen. This is done through monthly meetings as well as 1:1 time.
URL:https://www.restonbible.org/event/freshmen-fellowship-3/
LOCATION:RBC Youth Building\, 45650 Oakbrook Court\, Dulles\, VA\, 20166\, United States
CATEGORIES:Sr. High
ATTACH;FMTTYPE=image/jpeg:https://www.restonbible.org/wp-content/uploads/2022/08/freshfellow.jpg
END:VEVENT
END:VCALENDAR