BEGIN:VCALENDAR
VERSION:2.0
PRODID:-//Reston Bible Church - ECPv5.16.4//NONSGML v1.0//EN
CALSCALE:GREGORIAN
METHOD:PUBLISH
X-WR-CALNAME:Reston Bible Church
X-ORIGINAL-URL:https://www.restonbible.org
X-WR-CALDESC:Events for Reston Bible Church
BEGIN:VTIMEZONE
TZID:America/New_York
BEGIN:DAYLIGHT
TZOFFSETFROM:-0500
TZOFFSETTO:-0400
TZNAME:EDT
DTSTART:20250309T070000
END:DAYLIGHT
BEGIN:STANDARD
TZOFFSETFROM:-0400
TZOFFSETTO:-0500
TZNAME:EST
DTSTART:20251102T060000
END:STANDARD
END:VTIMEZONE
BEGIN:VEVENT
DTSTART;TZID=America/New_York:20250112T090000
DTEND;TZID=America/New_York:20250112T101500
DTSTAMP:20260424T010504
CREATED:20250112T221858Z
LAST-MODIFIED:20241226T162019Z
UID:32597-1736672400-1736676900@www.restonbible.org
SUMMARY:ETS: Experiencing the Abundant Life
DESCRIPTION:Dr. John Brewer will be leading this 8-week ETS Class.\nThis course will take participants through the experiences of Biblical figures and contemporary people of faith who transcended the allures of a driven\, exhausting existence\, to experience the green pastures and still waters of an abundant life in Christ. This class will equip people with the tools to lay the foundation for experiencing the abundant life. \nThis course will be Sunday mornings at 9:00 a.m. starting January 12. We will meet in Room 238. \nRegister here\nLearn more about Equipping the Saints
URL:https://www.restonbible.org/event/ets-abundantlife/
LOCATION:RBC Room 238\, 45650 Oakbrook Court\, Dulles\, VA\, 20166\, United States
CATEGORIES:Church Life,Classes,Equipping the Saints
ATTACH;FMTTYPE=image/jpeg:https://www.restonbible.org/wp-content/uploads/2018/08/ets-equip-slide.jpg
ORGANIZER;CN="Noah%20Smith":MAILTO:noahsmith@restonbible.org
END:VEVENT
END:VCALENDAR