BEGIN:VCALENDAR
VERSION:2.0
PRODID:-//Reston Bible Church - ECPv5.16.4//NONSGML v1.0//EN
CALSCALE:GREGORIAN
METHOD:PUBLISH
X-WR-CALNAME:Reston Bible Church
X-ORIGINAL-URL:https://www.restonbible.org
X-WR-CALDESC:Events for Reston Bible Church
BEGIN:VTIMEZONE
TZID:America/New_York
BEGIN:DAYLIGHT
TZOFFSETFROM:-0500
TZOFFSETTO:-0400
TZNAME:EDT
DTSTART:20240310T070000
END:DAYLIGHT
BEGIN:STANDARD
TZOFFSETFROM:-0400
TZOFFSETTO:-0500
TZNAME:EST
DTSTART:20241103T060000
END:STANDARD
END:VTIMEZONE
BEGIN:VEVENT
DTSTART;TZID=America/New_York:20241213T193000
DTEND;TZID=America/New_York:20241213T210000
DTSTAMP:20260424T040715
CREATED:20241031T202302Z
LAST-MODIFIED:20241031T202653Z
UID:37151-1734118200-1734123600@www.restonbible.org
SUMMARY:"Behold the Lamb" Christmas Concert
DESCRIPTION:The RBC Worship Ministry is excited to invite you to experience Behold the Lamb: The True Tale of the Coming of Christ this Christmas.\nBehold the Lamb is a one-hour concert event that was written by acclaimed singer-songwriter and author Andrew Peterson and has been performed around the U.S. annually for the last 17 years. The songs paint the story of the coming of Christ\, starting the first Passover in Egypt\, following the kings and prophets of the Old Testament\, and culminating in the birth of Jesus. This modern bluegrass program includes our worship band playing alongside special accompanists including a string quartet\, mandolin\, hammered dulcimer\, and more. During the busyness of the holidays\, this is one event that will leave you\, your friends\, and your family refreshed. \nShows will take place at 7:30 p.m. on Thursday\, December 12\, and Friday\, December 13. We hope you and your family\, friends and neighbors will plan to join us for one of those evenings. \nThis event is free and no tickets are required to attend\, but we ask that you please RSVP which evening you plan to attend so we can plan well! \nRSVP HERE\n\nDoors open at 7:00pm\, and seating is first-come\, first-served.\nPlease consider entering the RBC campus from southbound Cascades (so you can turn right onto Oakbrook Ct.) to ease traffic flow.\nIf the main lot is full when you arrive\, don’t forget the side and rear parking lots generally have plenty of spaces available.
URL:https://www.restonbible.org/event/behold2/
LOCATION:Reston Bible Church\, 45650 Oakbrook Court\, Dulles\, VA\, 20166\, United States
CATEGORIES:Church Life,Worship
ATTACH;FMTTYPE=image/jpeg:https://www.restonbible.org/wp-content/uploads/2023/12/event-behold-lamb-concert-featured.jpg
ORGANIZER;CN="Michael%20Greene":MAILTO:michaelgreene@restonbible.org
END:VEVENT
END:VCALENDAR