BEGIN:VCALENDAR
VERSION:2.0
PRODID:-//Reston Bible Church - ECPv5.16.4//NONSGML v1.0//EN
CALSCALE:GREGORIAN
METHOD:PUBLISH
X-WR-CALNAME:Reston Bible Church
X-ORIGINAL-URL:https://www.restonbible.org
X-WR-CALDESC:Events for Reston Bible Church
BEGIN:VTIMEZONE
TZID:America/New_York
BEGIN:DAYLIGHT
TZOFFSETFROM:-0500
TZOFFSETTO:-0400
TZNAME:EDT
DTSTART:20250309T070000
END:DAYLIGHT
BEGIN:STANDARD
TZOFFSETFROM:-0400
TZOFFSETTO:-0500
TZNAME:EST
DTSTART:20251102T060000
END:STANDARD
END:VTIMEZONE
BEGIN:VEVENT
DTSTART;TZID=America/New_York:20251205T183000
DTEND;TZID=America/New_York:20251205T203000
DTSTAMP:20260420T214426
CREATED:20251205T204020Z
LAST-MODIFIED:20260210T163343Z
UID:12877-1764959400-1764966600@www.restonbible.org
SUMMARY:5th Grade Friday - Cookies and Cocoa
DESCRIPTION:All 5th graders are encouraged to come and bring a 5th grade friend for these winter activities!\nWe will do a cookie exchange to make cookie plates for our neighbors\, hear from God’s Word\, eat snacks\, and play games. Hope you can join us! \nRegister here\n 
URL:https://www.restonbible.org/event/5thgradefriday/
LOCATION:RBC Clubhouse\, 45650 Oakbrook Court\, Dulles\, VA\, 20166\, United States
CATEGORIES:Children
ATTACH;FMTTYPE=image/jpeg:https://www.restonbible.org/wp-content/uploads/2017/07/event_quest_logo.jpg
END:VEVENT
END:VCALENDAR